BEGIN:VCALENDAR
VERSION:2.0
PRODID:-//AMSE//Event Calendar//FR
CALSCALE:GREGORIAN
METHOD:PUBLISH
BEGIN:VEVENT
UID:event-10020@www.amse-aixmarseille.fr
DTSTAMP:20260421T130531Z
CREATED:20260421T130531Z
LAST-MODIFIED:20260421T130531Z
STATUS:CONFIRMED
SEQUENCE:0
SUMMARY:confÃ©rences/workshops - Post-doc day
DTSTART:20230317T081500Z
DTEND:20230317T140000Z
DESCRIPTION:Program:09:15-09:45Â  Â  Â Eddy Zanoutene\, Paris 209:45-10:15Â
   Â  Â Aymeric Ortmans\, Paris-Saclay10:15-10:45Â  Â  Â Arnaud Deseau\, UCL
  (Bruxelles)10:45-11:00Â  Â  Â Break11:00-11:30Â  Â  Â Afonso Camara Leme\,
  Nova School of B and E (Lisboa)11:30-12:00Â  Â  Â Betul Turkum\, EUI (Flor
 ence)12:00-14:00Â  Â  Â Long break14:00-14:30Â  Â  Â Tselmuun Tserenkhuu\, 
 Guelph U. (Ontario)14:30-15:00Â  Â  Â Ge Song\, University of Colorado (Bou
 lder)Â \\n\\nContact: FrÃ©dÃ©ric DeroÃ¯an : frederic.deroian[at]univ-amu.fr
 Federico Trionfetti : federico.trionfetti[at]univ-amu.fr\n\nPlus d'informat
 ions: https://www.amse-aixmarseille.fr/en/events/post-doc-day-0
URL;VALUE=URI:https://www.amse-aixmarseille.fr/en/events/post-doc-day-0
CONTACT:FrÃ©dÃ©ric DeroÃ¯an : frederic.deroian[at]univ-amu.frFederico Trion
 fetti : federico.trionfetti[at]univ-amu.fr
TRANSP:OPAQUE
END:VEVENT
END:VCALENDAR
