BEGIN:VCALENDAR
VERSION:2.0
PRODID:-//AMSE//Event Calendar//FR
CALSCALE:GREGORIAN
METHOD:PUBLISH
BEGIN:VEVENT
UID:event-10027@www.amse-aixmarseille.fr
DTSTAMP:20260421T130629Z
CREATED:20260421T130629Z
LAST-MODIFIED:20260421T130629Z
STATUS:CONFIRMED
SEQUENCE:0
SUMMARY:conférences/workshops - Workshop AMSE LEA-ScPO Aix
DTSTART:20230324T080000Z
DTEND:20230324T163000Z
DESCRIPTION:\\n\\nContact: Alice Fabre: alice.fabre[at]univ-amu.frCéline G
 imet: celine.gimet[at]sciencespo-aix.fr\n\nPlus d'informations: https://www
 .amse-aixmarseille.fr/en/events/workshop-amse-lea-scpo-aix
LOCATION:MEGA - Salle Carine Nourry\, 424\, Chemin du Viaduc\, 13080 Aix-en
 -Provence
URL;VALUE=URI:https://www.amse-aixmarseille.fr/en/events/workshop-amse-lea-scpo-aix
CONTACT:Alice Fabre: alice.fabre[at]univ-amu.frCéline Gimet: celine.gimet[
 at]sciencespo-aix.fr
TRANSP:OPAQUE
END:VEVENT
END:VCALENDAR
