BEGIN:VCALENDAR
VERSION:2.0
PRODID:-//AMSE//Event Calendar//FR
CALSCALE:GREGORIAN
METHOD:PUBLISH
BEGIN:VEVENT
UID:event-10056@www.amse-aixmarseille.fr
DTSTAMP:20260421T144455Z
CREATED:20260421T144455Z
LAST-MODIFIED:20260421T144455Z
STATUS:CONFIRMED
SEQUENCE:0
SUMMARY:conférences/workshops - International workshop in honor of Bob Bec
 ker
DTSTART:20230412T070000Z
DTEND:20230412T163000Z
DESCRIPTION:\\n\\nContact: Thomas Seegmuller: thomas.seegmuller[at]univ-amu
 .frAlain Venditti: alain.venditti[at]univ-amu.fr\n\nPlus d'informations: ht
 tps://www.amse-aixmarseille.fr/en/events/international-workshop-honor-bob-b
 ecker-0
LOCATION:Îlot Bernard du Bois - Salle 12\, AMU - AMSE\, 5-9 boulevard Maur
 ice Bourdet\, 13001 Marseille
URL;VALUE=URI:https://www.amse-aixmarseille.fr/en/events/international-workshop-honor-bob-becker-0
CONTACT:Thomas Seegmuller: thomas.seegmuller[at]univ-amu.frAlain Venditti: 
 alain.venditti[at]univ-amu.fr
TRANSP:OPAQUE
END:VEVENT
END:VCALENDAR
