BEGIN:VCALENDAR
VERSION:2.0
PRODID:-//AMSE//Event Calendar//FR
CALSCALE:GREGORIAN
METHOD:PUBLISH
BEGIN:VEVENT
UID:event-10115@www.amse-aixmarseille.fr
DTSTAMP:20260421T151628Z
CREATED:20260421T151628Z
LAST-MODIFIED:20260421T151628Z
STATUS:CONFIRMED
SEQUENCE:0
SUMMARY:soutenances de thèse - Anushka Chawla
DTSTART:20230619T141500Z
DTEND:20230619T141500Z
DESCRIPTION:Plus d'informations: https://www.amse-aixmarseille.fr/en/events
 /anushka-chawla-2
LOCATION:Îlot Bernard du Bois - Amphithéâtre\, AMU - AMSE\, 5-9 boulevar
 d Maurice Bourdet\, 13001 Marseille
URL;VALUE=URI:https://www.amse-aixmarseille.fr/en/events/anushka-chawla-2
TRANSP:OPAQUE
END:VEVENT
END:VCALENDAR
