BEGIN:VCALENDAR
VERSION:2.0
PRODID:-//AMSE//Event Calendar//FR
CALSCALE:GREGORIAN
METHOD:PUBLISH
BEGIN:VEVENT
UID:event-10158@www.amse-aixmarseille.fr
DTSTAMP:20260422T120227Z
CREATED:20260422T120227Z
LAST-MODIFIED:20260422T120227Z
STATUS:CONFIRMED
SEQUENCE:0
SUMMARY:conférences/workshops - Montpellier - Marseille Research Meeting
DTSTART:20230530T090000Z
DTEND:20230530T153000Z
DESCRIPTION:\\n\\nContact: Stéphane Luchini: stephane.luchini[at]univ-amu.
 frPatrick Pintus: papintus[at]gmail.comMiriam Teschl: miriam.teschl[at]ehes
 s.fr\n\nPlus d'informations: https://www.amse-aixmarseille.fr/en/events/mon
 tpellier-marseille-research-meeting-0
LOCATION:Îlot Bernard du Bois - Salle 24\, AMU - AMSE\, 5-9 boulevard Maur
 ice Bourdet\, 13001 Marseille
URL;VALUE=URI:https://www.amse-aixmarseille.fr/en/events/montpellier-marseille-research-meeting-0
CONTACT:Stéphane Luchini: stephane.luchini[at]univ-amu.frPatrick Pintus: p
 apintus[at]gmail.comMiriam Teschl: miriam.teschl[at]ehess.fr
TRANSP:OPAQUE
END:VEVENT
END:VCALENDAR
