BEGIN:VCALENDAR
VERSION:2.0
PRODID:-//AMSE//Event Calendar//FR
CALSCALE:GREGORIAN
METHOD:PUBLISH
BEGIN:VEVENT
UID:event-10233@www.amse-aixmarseille.fr
DTSTAMP:20260422T151549Z
CREATED:20260422T151549Z
LAST-MODIFIED:20260422T151549Z
STATUS:CONFIRMED
SEQUENCE:0
SUMMARY:big data and econometrics seminar - Oliver Anderson
DTSTART:20230926T120000Z
DTEND:20230926T133000Z
DESCRIPTION:This seminar will show sequence analysis of post compulsory edu
 cation and labour market activities\, pathways and outcomes based on differ
 ent socioeconomic\, demographic and education factors. This research uses 
 powerful administrative data from England to carry out analysis of over 3.6
  million individuals doing their General Certificate of Secondary Education
  exams (GCSEs) between 2002 and 2007. English education administrative reco
 rds and combined with United Kingdom (UK) tax and social security records. 
 Longitudinal Education Outcomes (LEO) data allowing these individuals to be
  tracked in their post compulsory education over a 10-15 year period. The a
 nalysis makes comparisons using of a range of background characteristics in
 cluding socioeconomic status\, special educational needs (SEN) status\, gen
 der\, ethnicity\, first language and location (region). It also observes ho
 w these differ for different education levels\, doing comparisons of: 1) gr
 aduates and non-graduates and 2) non-graduates achieving level 3 or above a
 nd level 2 or below. This seminar will focus on differences between ethnic 
 groups and show how diverse things are based on ethnicity classifications.\
 \n\\nContact: Michel Lubrano: michel.lubrano[at]univ-amu.frPierre Michel: 
 pierre.michel[at]univ-amu.fr\n\nPlus d'informations: https://www.amse-aixma
 rseille.fr/en/events/oliver-anderson-0
LOCATION:Îlot Bernard du Bois - Salle 23\, AMU - AMSE\, 5-9 boulevard Maur
 ice Bourdet\, 13001 Marseille
URL;VALUE=URI:https://www.amse-aixmarseille.fr/en/events/oliver-anderson-0
CONTACT:Michel Lubrano: michel.lubrano[at]univ-amu.frPierre Michel:&nbsp\;p
 ierre.michel[at]univ-amu.fr
TRANSP:OPAQUE
END:VEVENT
END:VCALENDAR
