BEGIN:VCALENDAR
VERSION:2.0
PRODID:-//AMSE//Event Calendar//FR
CALSCALE:GREGORIAN
METHOD:PUBLISH
BEGIN:VEVENT
UID:event-10255@www.amse-aixmarseille.fr
DTSTAMP:20260421T200507Z
CREATED:20260421T200507Z
LAST-MODIFIED:20260421T200507Z
STATUS:CONFIRMED
SEQUENCE:0
SUMMARY:amse seminar - Rachel Heath
DTSTART:20231204T103000Z
DTEND:20231204T114500Z
DESCRIPTION:We evaluate secure survey methods designed for the ongoing moni
 toring of harassment in organizations. We use the resulting data to answer
  policy relevant questions about the nature of harassment: How prevalent i
 s it? What share of managers is responsible for the misbehavior? How isola
 ted are its victims? To do so\, we partner with a large Bangladeshi garmen
 t manufacturer to experiment with different designs of phone-based worker 
 surveys. Garbling responses to sensitive questions by automatically record
 ing a random subset as complaints increases reporting of physical harassmen
 t by 288%\, sexual harassment by 269%\, and threatening behavior by 46%\, 
 from reporting rates of 1.5%\, 1.8%\, and 9.9%\, respectively\, under the 
 status quo of direct elicitation. A rapport-building treatment has an insi
 gnificant aggregate effect\, but may affect men and women differently. Rem
 oving team identifiers from survey responses does not significantly increa
 se reporting and prevents the computation of policy-relevant team-level st
 atistics. The resulting data shows that harassment is widespread\, that the
  problem is not restricted to a minority of managers\, and that victims ar
 e often isolated in teams.\\n\\nContact: Nicolas Clootens: nicolas.clootens
 [at]univ-amu.frTimothée Demont: timothee.demont[at]univ-amu.frHabiba Djeb
 bari: habiba.djebbari[at]univ-amu.frRomain Ferrali: romain.ferrali[at]univ-
 amu.fr\n\nPlus d'informations: https://www.amse-aixmarseille.fr/en/events/r
 achel-heath-0
LOCATION:Îlot Bernard du Bois - Amphithéâtre\, AMU - AMSE\, 5-9 boulevar
 d Maurice Bourdet\, 13001 Marseille
URL;VALUE=URI:https://www.amse-aixmarseille.fr/en/events/rachel-heath-0
CONTACT:Nicolas Clootens: nicolas.clootens[at]univ-amu.frTimothée Demont:&
 nbsp\;timothee.demont[at]univ-amu.frHabiba Djebbari: habiba.djebbari[at]uni
 v-amu.frRomain Ferrali: romain.ferrali[at]univ-amu.fr
TRANSP:OPAQUE
END:VEVENT
END:VCALENDAR
