BEGIN:VCALENDAR
VERSION:2.0
PRODID:-//AMSE//Event Calendar//FR
CALSCALE:GREGORIAN
METHOD:PUBLISH
BEGIN:VEVENT
UID:event-10303@www.amse-aixmarseille.fr
DTSTAMP:20260421T214213Z
CREATED:20260421T214213Z
LAST-MODIFIED:20260421T214213Z
STATUS:CONFIRMED
SEQUENCE:0
SUMMARY:Eco-lunch - Morgan Raux
DTSTART:20231130T113000Z
DTEND:20231130T123000Z
DESCRIPTION:This paper estimates the causal effect of recruitment competiti
 on on firms’ labor demand for high-skilled foreign workers. I assemble a 
 new data set\, combining a firm-level panel of all Labor Condition Applicat
 ions (LCAs) submitted as a first step to obtaining H-1B visas between 2010 
 and 2019 with online job vacancies and data on venture capital (VC) investm
 ents. I use plausibly quasi-exogeneous variation in VC investments in start
 -ups to instrument yearly changes in recruitment competition at the local l
 abor market level. I find that a one standard deviation increase in the num
 ber of job postings advertised by start-ups yields an 8 percent increase in
  the number of LCAs submitted by employers in the market and a 3 percent in
 crease in the wages advertised in these LCAs. Estimates are only significan
 t for computer occupations. These results support the role of labor market 
 tightness in explaining the absence of the crowding-out effect from H-1B wo
 rkers against close native substitutes.\\n\\nContact: Nathalie Ferrière: 
 nathalie.ferriere[at]sciencespo-aix.frFederico Trionfetti: federico.trionf
 etti[at]univ-amu.fr\n\nPlus d'informations: https://www.amse-aixmarseille.f
 r/en/events/morgan-raux-8
LOCATION:MEGA - Salle Carine Nourry\, 424\, Chemin du Viaduc\, 13080 Aix-en
 -Provence
URL;VALUE=URI:https://www.amse-aixmarseille.fr/en/events/morgan-raux-8
CONTACT:Nathalie Ferrière:&nbsp\;nathalie.ferriere[at]sciencespo-aix.frFed
 erico Trionfetti:&nbsp\;federico.trionfetti[at]univ-amu.fr
TRANSP:OPAQUE
END:VEVENT
END:VCALENDAR
