BEGIN:VCALENDAR
VERSION:2.0
PRODID:-//AMSE//Event Calendar//FR
CALSCALE:GREGORIAN
METHOD:PUBLISH
BEGIN:VEVENT
UID:event-10359@www.amse-aixmarseille.fr
DTSTAMP:20260423T144556Z
CREATED:20260423T144556Z
LAST-MODIFIED:20260423T144556Z
STATUS:CONFIRMED
SEQUENCE:0
SUMMARY:phd seminar - Daniela Arlia
DTSTART:20231003T094500Z
DTEND:20231003T103000Z
DESCRIPTION:In this paper I study how changes in the composition of the loc
 al residents due to structural technological changes have shaped the cross-
 section of housing prices within cities in Germany during the period 2007-2
 021. To do so I combine a large listing dataset containig information on ho
 usings at the 1x1km2 grid level with administrative data for the labor mark
 et.  I first show that the price of housings of different quality evolved 
 heterogeneously both between and within cities\, and that housings of low-q
 uality have gained more value in big cities than in the rest of the countr
 y\, making the local market there more homogeneous. By relying on a shift-s
 hare approach\, I study the impact of the variation in the abstract jobs at
  different quartile of the housing prices/quality distribution. I show that
  this change in the composition of the local demand has heterogeneous effec
 ts along the housing prices distribution\, and can be seen as a spillover e
 ffect from the top to the bottom of the distribution due to mis-smatches in
  the local housing sub-markets. Finally\, I study the implications for the 
 local workers in terms of welfare and the displacement effects of low-skill
 ed worker.\\n\\nContact: Lucie Giorgi: lucie.giorgi[at]univ-amu.frRicardo G
 uzman: ricardo.guzman[at]univ-amu.frNatalia Labrador: natalia.labrador-ber
 nate[at]univ-amu.frNathan Vieira: nathan.vieira[at]univ-amu.fr\n\nPlus d'in
 formations: https://www.amse-aixmarseille.fr/en/events/daniela-arlia-6
LOCATION:MEGA - Salle Carine Nourry\, 424\, Chemin du Viaduc\, 13080 Aix-en
 -Provence
URL;VALUE=URI:https://www.amse-aixmarseille.fr/en/events/daniela-arlia-6
CONTACT:Lucie Giorgi: lucie.giorgi[at]univ-amu.frRicardo Guzman: ricardo.gu
 zman[at]univ-amu.frNatalia Labrador:&nbsp\;natalia.labrador-bernate[at]univ
 -amu.frNathan Vieira: nathan.vieira[at]univ-amu.fr
TRANSP:OPAQUE
END:VEVENT
END:VCALENDAR
