BEGIN:VCALENDAR
VERSION:2.0
PRODID:-//AMSE//Event Calendar//FR
CALSCALE:GREGORIAN
METHOD:PUBLISH
BEGIN:VEVENT
UID:event-10470@www.amse-aixmarseille.fr
DTSTAMP:20260421T153819Z
CREATED:20260421T153819Z
LAST-MODIFIED:20260421T153819Z
STATUS:CONFIRMED
SEQUENCE:0
SUMMARY:conférences/workshops - Monetary Policy Meetings - Banque de Franc
 e/AMSE/FEG
DTSTART:20231018T151500Z
DTEND:20231018T151500Z
DESCRIPTION: The Banque de France\, AMSE and the Faculty of Economics and 
 Management (FEG) propose the "Monetary Policy Meetings":- Theme: « Comm
 ent la France et l'Europe vont vaincre l'inflation ? »- Date: Wednesday\,
  October 18\, 2023- Time: 5:15pm- Venue: Faculté d'économie et de gestion
 \, 14 avenue Jules Ferry\, 13090 Aix-en-ProvenceThe main objective of these
  meetings is to provide you with a unique opportunity to meet one of the ke
 y figures in monetary policy in France\, Mrs. Marie-Laure Barut-Etheringto
 n\, Deputy Chief Economist and Deputy General Director at the Banque de Fra
 nce. You will have the chance to ask her questions about the role of the Ba
 nque de France and its monetary policy. Program:Broadcast a street intervi
 ew conducted by students involved in the online media EcoPressPresentation
  to introduce the discussion by Marie-Laure Barut-EtheringtonQuestion-and-a
 nswer sessionThe conference will be followed by a cocktail reception.>> Reg
 istration required\, places limited\; follow this link.Conference only in 
 French. © Image Banque de France\\n\\nContact: 1047-evenementiel-ut[at]ba
 nque-france.fr\n\nPlus d'informations: https://www.amse-aixmarseille.fr/en/
 events/monetary-policy-meetings-banque-de-franceamsefeg
URL;VALUE=URI:https://www.amse-aixmarseille.fr/en/events/monetary-policy-meetings-banque-de-franceamsefeg
CONTACT:1047-evenementiel-ut[at]banque-france.fr
TRANSP:OPAQUE
END:VEVENT
END:VCALENDAR
