BEGIN:VCALENDAR
VERSION:2.0
PRODID:-//AMSE//Event Calendar//FR
CALSCALE:GREGORIAN
METHOD:PUBLISH
BEGIN:VEVENT
UID:event-10480@www.amse-aixmarseille.fr
DTSTAMP:20260422T121430Z
CREATED:20260422T121430Z
LAST-MODIFIED:20260422T121430Z
STATUS:CONFIRMED
SEQUENCE:0
SUMMARY:conférences/workshops - 8th AMSE BDF workshop in Macroeconomics
DTSTART:20240621T070000Z
DTEND:20240621T150000Z
DESCRIPTION:\\n\\nContact: Céline Poilly: celine.poilly[at]univ-amu.fr\n\n
 Plus d'informations: https://www.amse-aixmarseille.fr/en/events/8th-amse-bd
 f-workshop-macroeconomics-0
LOCATION:Îlot Bernard du Bois - Amphithéâtre\, AMU - AMSE\, 5-9 boulevar
 d Maurice Bourdet\, 13001 Marseille
URL;VALUE=URI:https://www.amse-aixmarseille.fr/en/events/8th-amse-bdf-workshop-macroeconomics-0
CONTACT:Céline Poilly: celine.poilly[at]univ-amu.fr
TRANSP:OPAQUE
END:VEVENT
END:VCALENDAR
