BEGIN:VCALENDAR
VERSION:2.0
PRODID:-//AMSE//Event Calendar//FR
CALSCALE:GREGORIAN
METHOD:PUBLISH
BEGIN:VEVENT
UID:event-10527@www.amse-aixmarseille.fr
DTSTAMP:20260422T203559Z
CREATED:20260422T203559Z
LAST-MODIFIED:20260422T203559Z
STATUS:CONFIRMED
SEQUENCE:0
SUMMARY:Practice job talks - Bertille Picard
DTSTART:20231113T133000Z
DTEND:20231113T144500Z
DESCRIPTION:Welfare-maximizing algorithms offer new insights in experimenta
 l economics. During an experiment\, they identify the most beneficial treat
 ment for the subjects and thus maximize the experiment's overall welfare im
 pact. However\, for experimentalists or policy implementers\, this implies 
 transferring decision-making power to an algorithm. Allocating individuals 
 to treatment arms using an algorithm exposes us to contemporary criticisms 
 of artificial intelligence\, such as discrimination or exacerbation of ineq
 ualities. Can we meet the requirements of fairness in these automated desig
 ns? Are adaptive experiments more fair by virtue of their objective? In thi
 s paper\, I propose a comprehensive examination of fairness by considering 
 multiple dimensions that can influence the researchers' preference for one 
 design over the other. By summarizing and analyzing these distinct dimensio
 ns through a utility model\, I aim to discuss the relative fairness of adap
 tive experiments and standard randomized controlled trials. Specifically\, 
 I show that these different designs align with extreme versions of the fair
 ness utility model\, reflecting the pursuit of distinct fairness objectives
  within experimental settings. My model highlights the presence of intermed
 iate solutions that can be pursued to reconcile and balance different fairn
 ess objectives in experimental designs.\\n\\nContact: Timothée Demont: tim
 othee.demont[at]univ-amu.fr\n\nPlus d'informations: https://www.amse-aixmar
 seille.fr/en/events/bertille-picard-10
LOCATION:Îlot Bernard du Bois - Salle 16\, AMU - AMSE\, 5-9 boulevard Maur
 ice Bourdet\, 13001 Marseille
URL;VALUE=URI:https://www.amse-aixmarseille.fr/en/events/bertille-picard-10
CONTACT:Timothée Demont: timothee.demont[at]univ-amu.fr
TRANSP:OPAQUE
END:VEVENT
END:VCALENDAR
