BEGIN:VCALENDAR
VERSION:2.0
PRODID:-//AMSE//Event Calendar//FR
CALSCALE:GREGORIAN
METHOD:PUBLISH
BEGIN:VEVENT
UID:event-10539@www.amse-aixmarseille.fr
DTSTAMP:20260421T200502Z
CREATED:20260421T200502Z
LAST-MODIFIED:20260421T200502Z
STATUS:CONFIRMED
SEQUENCE:0
SUMMARY:Practice job talks - Marie Beigelman
DTSTART:20231130T133000Z
DTEND:20231130T144500Z
DESCRIPTION:\\n\\nContact: Timothée Demont: timothee.demont[at]univ-amu.fr
 \n\nPlus d'informations: https://www.amse-aixmarseille.fr/en/events/marie-b
 eigelman-0
LOCATION:MEGA - Salle Carine Nourry\, 424\, Chemin du Viaduc\, 13080 Aix-en
 -Provence
URL;VALUE=URI:https://www.amse-aixmarseille.fr/en/events/marie-beigelman-0
CONTACT:Timothée Demont: timothee.demont[at]univ-amu.fr
TRANSP:OPAQUE
END:VEVENT
END:VCALENDAR
