BEGIN:VCALENDAR
VERSION:2.0
PRODID:-//AMSE//Event Calendar//FR
CALSCALE:GREGORIAN
METHOD:PUBLISH
BEGIN:VEVENT
UID:event-10553@www.amse-aixmarseille.fr
DTSTAMP:20260421T230711Z
CREATED:20260421T230711Z
LAST-MODIFIED:20260421T230711Z
STATUS:CONFIRMED
SEQUENCE:0
SUMMARY:amse seminar - Olivier Deschenes
DTSTART:20240311T103000Z
DTEND:20240311T114500Z
DESCRIPTION:This paper studies the distribution of air quality benefits fro
 m the EPA's NOx Budget Program\, a seasonal cap-and-trade market for nitrog
 en oxides (NOx) emissions. We use electricity generating unit-level data to
 gether with a triple difference estimator\, a new empirical method to estim
 ate heterogeneous treatment effects\, and an air pollution transport model 
 to estimate the market's impacts on ambient concentration of fine particula
 te matter. We find that the market improved equity outcomes by reducing the
  Black-white disparity in electricity sector air pollution. Replacing the m
 arket with a counterfactual policy where all coal units reduce their emissi
 ons by the same percentage leads to higher PM2.5 concentrations and worse e
 quity outcomes compared to the market based policy.\\n\\nContact: Nicolas C
 lootens: nicolas.clootens[at]univ-amu.frRomain Ferrali: romain.ferrali[at]u
 niv-amu.fr\n\nPlus d'informations: https://www.amse-aixmarseille.fr/en/even
 ts/olivier-deschenes-2
LOCATION:Îlot Bernard du Bois - Amphithéâtre\, AMU - AMSE\, 5-9 boulevar
 d Maurice Bourdet\, 13001 Marseille
URL;VALUE=URI:https://www.amse-aixmarseille.fr/en/events/olivier-deschenes-2
CONTACT:Nicolas Clootens: nicolas.clootens[at]univ-amu.frRomain Ferrali: ro
 main.ferrali[at]univ-amu.fr
TRANSP:OPAQUE
END:VEVENT
END:VCALENDAR
