BEGIN:VCALENDAR
VERSION:2.0
PRODID:-//AMSE//Event Calendar//FR
CALSCALE:GREGORIAN
METHOD:PUBLISH
BEGIN:VEVENT
UID:event-10565@www.amse-aixmarseille.fr
DTSTAMP:20260421T184049Z
CREATED:20260421T184049Z
LAST-MODIFIED:20260421T184049Z
STATUS:CONFIRMED
SEQUENCE:0
SUMMARY:economic philosophy seminar - Bruno Perreau
DTSTART:20231120T150000Z
DTEND:20231120T170000Z
DESCRIPTION:\\n\\nContact: Feriel Kandil: feriel.kandil[at]univ-amu.frMiri
 am Teschl: miriam.teschl[at]ehess.fr\n\nPlus d'informations: https://www.a
 mse-aixmarseille.fr/en/events/bruno-perreau-0
LOCATION:Îlot Bernard du Bois - Salle 15\, AMU - AMSE\, 5-9 boulevard Maur
 ice Bourdet\, 13001 Marseille
URL;VALUE=URI:https://www.amse-aixmarseille.fr/en/events/bruno-perreau-0
CONTACT:Feriel Kandil:&nbsp\;feriel.kandil[at]univ-amu.frMiriam Teschl:&nbs
 p\;miriam.teschl[at]ehess.fr
TRANSP:OPAQUE
END:VEVENT
END:VCALENDAR
