BEGIN:VCALENDAR
VERSION:2.0
PRODID:-//AMSE//Event Calendar//FR
CALSCALE:GREGORIAN
METHOD:PUBLISH
BEGIN:VEVENT
UID:event-10586@www.amse-aixmarseille.fr
DTSTAMP:20260422T181849Z
CREATED:20260422T181849Z
LAST-MODIFIED:20260422T181849Z
STATUS:CONFIRMED
SEQUENCE:0
SUMMARY:Eco-lunch - Antoine Camous
DTSTART:20231019T103000Z
DTEND:20231019T113000Z
DESCRIPTION:Why\, when and how should a central bank (mis)report private in
 formation?This paper studies the incentives and the ability of a central ba
 nk to stabilize the economy through strategically distorted announcements. 
 Three messages stand out. First\, strategic communication designed to mitig
 ate dispersion costs from sector specific shocks complements standard polic
 y interventions in stabilizing the economy. Second\, communication is subje
 ct to a commitment tension that undermines control of private beliefs and e
 ffective stabilization. Finally\, central bank reputation provides valuable
  incentives to support effective strategic communication.\\n\\nContact: Nat
 halie Ferrière: nathalie.ferriere[at]sciencespo-aix.frFederico Trionfetti
 : federico.trionfetti[at]univ-amu.fr\n\nPlus d'informations: https://www.a
 mse-aixmarseille.fr/en/events/antoine-camous-0
LOCATION:MEGA - Salle Carine Nourry\, 424\, Chemin du Viaduc\, 13080 Aix-en
 -Provence
URL;VALUE=URI:https://www.amse-aixmarseille.fr/en/events/antoine-camous-0
CONTACT:Nathalie Ferrière:&nbsp\;nathalie.ferriere[at]sciencespo-aix.frFed
 erico Trionfetti:&nbsp\;federico.trionfetti[at]univ-amu.fr
TRANSP:OPAQUE
END:VEVENT
END:VCALENDAR
