BEGIN:VCALENDAR
VERSION:2.0
PRODID:-//AMSE//Event Calendar//FR
CALSCALE:GREGORIAN
METHOD:PUBLISH
BEGIN:VEVENT
UID:event-10600@www.amse-aixmarseille.fr
DTSTAMP:20260421T171808Z
CREATED:20260421T171808Z
LAST-MODIFIED:20260421T171808Z
STATUS:CONFIRMED
SEQUENCE:0
SUMMARY:soutenances de thèse - Bertille Picard
DTSTART:20231211T140000Z
DTEND:20231211T140000Z
DESCRIPTION:Plus d'informations: https://www.amse-aixmarseille.fr/en/events
 /bertille-picard-12
LOCATION:Îlot Bernard du Bois - Amphithéâtre\, AMU - AMSE\, 5-9 boulevar
 d Maurice Bourdet\, 13001 Marseille
URL;VALUE=URI:https://www.amse-aixmarseille.fr/en/events/bertille-picard-12
TRANSP:OPAQUE
END:VEVENT
END:VCALENDAR
