BEGIN:VCALENDAR
VERSION:2.0
PRODID:-//AMSE//Event Calendar//FR
CALSCALE:GREGORIAN
METHOD:PUBLISH
BEGIN:VEVENT
UID:event-10602@www.amse-aixmarseille.fr
DTSTAMP:20260421T143750Z
CREATED:20260421T143750Z
LAST-MODIFIED:20260421T143750Z
STATUS:CONFIRMED
SEQUENCE:0
SUMMARY:soutenances de thèse - Elie Vidal-Naquet
DTSTART:20231211T090000Z
DTEND:20231211T090000Z
DESCRIPTION:Plus d'informations: https://www.amse-aixmarseille.fr/en/events
 /elie-vidal-naquet-2
LOCATION:Îlot Bernard du Bois - Salle 15\, AMU - AMSE\, 5-9 boulevard Maur
 ice Bourdet\, 13001 Marseille
URL;VALUE=URI:https://www.amse-aixmarseille.fr/en/events/elie-vidal-naquet-2
TRANSP:OPAQUE
END:VEVENT
END:VCALENDAR
