BEGIN:VCALENDAR
VERSION:2.0
PRODID:-//AMSE//Event Calendar//FR
CALSCALE:GREGORIAN
METHOD:PUBLISH
BEGIN:VEVENT
UID:event-10637@www.amse-aixmarseille.fr
DTSTAMP:20260421T184133Z
CREATED:20260421T184133Z
LAST-MODIFIED:20260421T184133Z
STATUS:CONFIRMED
SEQUENCE:0
SUMMARY:Economic theory seminar - Bhaskar Dutta
DTSTART:20231124T110000Z
DTEND:20231124T120000Z
DESCRIPTION:We propose and study a model of strategic network exploration w
 here the hider\, subject to a budget constraint restricting the number of l
 inks\, chooses a connected network and a location of an object. The seeker
 \, who does not observe the network and location of the target chooses a ne
 twork exploration strategy starting at a fixed node in the network. We obta
 in a Nash equilibrium and characterize equilibrium payoffs in the case of l
 inking budget allowing for trees only. We also give bounds on the expected 
 number of steps needed find the hider for the case where the linking budget
  allows for at most one cycle in the network.\\n\\nContact: Gaëtan Fournie
 r: gaetan.fournier[at]univ-amu.fr\n\nPlus d'informations: https://www.amse-
 aixmarseille.fr/en/events/bhaskar-dutta-0
LOCATION:Îlot Bernard du Bois - Salle 15\, AMU - AMSE\, 5-9 boulevard Maur
 ice Bourdet\, 13001 Marseille
URL;VALUE=URI:https://www.amse-aixmarseille.fr/en/events/bhaskar-dutta-0
CONTACT:Gaëtan Fournier: gaetan.fournier[at]univ-amu.fr
TRANSP:OPAQUE
END:VEVENT
END:VCALENDAR
