BEGIN:VCALENDAR
VERSION:2.0
PRODID:-//AMSE//Event Calendar//FR
CALSCALE:GREGORIAN
METHOD:PUBLISH
BEGIN:VEVENT
UID:event-10639@www.amse-aixmarseille.fr
DTSTAMP:20260421T130628Z
CREATED:20260421T130628Z
LAST-MODIFIED:20260421T130628Z
STATUS:CONFIRMED
SEQUENCE:0
SUMMARY:soutenances de thèse - Julien Silhol
DTSTART:20231220T093000Z
DTEND:20231220T093000Z
DESCRIPTION:Plus d'informations: https://www.amse-aixmarseille.fr/en/events
 /julien-silhol-0
LOCATION:Îlot Bernard du Bois - Salle 15\, AMU - AMSE\, 5-9 boulevard Maur
 ice Bourdet\, 13001 Marseille
URL;VALUE=URI:https://www.amse-aixmarseille.fr/en/events/julien-silhol-0
TRANSP:OPAQUE
END:VEVENT
END:VCALENDAR
