BEGIN:VCALENDAR
VERSION:2.0
PRODID:-//AMSE//Event Calendar//FR
CALSCALE:GREGORIAN
METHOD:PUBLISH
BEGIN:VEVENT
UID:event-10645@www.amse-aixmarseille.fr
DTSTAMP:20260421T230643Z
CREATED:20260421T230643Z
LAST-MODIFIED:20260421T230643Z
STATUS:CONFIRMED
SEQUENCE:0
SUMMARY:Eco-lunch - Yann Bramoullé
DTSTART:20231221T113000Z
DTEND:20231221T123000Z
DESCRIPTION:\\n\\nContact: Nathalie Ferrière: nathalie.ferriere[at]science
 spo-aix.frFederico Trionfetti: federico.trionfetti[at]univ-amu.fr\n\nPlus d
 'informations: https://www.amse-aixmarseille.fr/en/events/yann-bramoull%C3%
 A9-3
LOCATION:MEGA - Salle Carine Nourry\, 424\, Chemin du Viaduc\, 13080 Aix-en
 -Provence
URL;VALUE=URI:https://www.amse-aixmarseille.fr/en/events/yann-bramoull%C3%A9-3
CONTACT:Nathalie Ferrière: nathalie.ferriere[at]sciencespo-aix.frFederico 
 Trionfetti: federico.trionfetti[at]univ-amu.fr
TRANSP:OPAQUE
END:VEVENT
END:VCALENDAR
