BEGIN:VCALENDAR
VERSION:2.0
PRODID:-//AMSE//Event Calendar//FR
CALSCALE:GREGORIAN
METHOD:PUBLISH
BEGIN:VEVENT
UID:event-10712@www.amse-aixmarseille.fr
DTSTAMP:20260422T133811Z
CREATED:20260422T133811Z
LAST-MODIFIED:20260422T133811Z
STATUS:CONFIRMED
SEQUENCE:0
SUMMARY:conférences/workshops - International Conference on Development Ec
 onomics
DTSTART:20240702T070000Z
DTEND:20240703T160000Z
DESCRIPTION:\\n\\nContact: icde[at]amse-aixmarseille.fr\n\nPlus d'informati
 ons: https://www.amse-aixmarseille.fr/en/events/international-conference-de
 velopment-economics
URL;VALUE=URI:https://www.amse-aixmarseille.fr/en/events/international-conference-development-economics
CONTACT:icde[at]amse-aixmarseille.fr
TRANSP:OPAQUE
END:VEVENT
END:VCALENDAR
