BEGIN:VCALENDAR
VERSION:2.0
PRODID:-//AMSE//Event Calendar//FR
CALSCALE:GREGORIAN
METHOD:PUBLISH
BEGIN:VEVENT
UID:event-10732@www.amse-aixmarseille.fr
DTSTAMP:20260421T170720Z
CREATED:20260421T170720Z
LAST-MODIFIED:20260421T170720Z
STATUS:CONFIRMED
SEQUENCE:0
SUMMARY:enseignement - 5th AMSE Summer School
DTSTART:20240610T070000Z
DTEND:20240612T150000Z
DESCRIPTION:\\n\\nContact: summerschool[at]amse-aixmarseille.fr\n\nPlus d'i
 nformations: https://www.amse-aixmarseille.fr/en/events/5th-amse-summer-sch
 ool
LOCATION:Îlot Bernard du Bois
URL;VALUE=URI:https://www.amse-aixmarseille.fr/en/events/5th-amse-summer-school
CONTACT:summerschool[at]amse-aixmarseille.fr
TRANSP:OPAQUE
END:VEVENT
END:VCALENDAR
