BEGIN:VCALENDAR
VERSION:2.0
PRODID:-//AMSE//Event Calendar//FR
CALSCALE:GREGORIAN
METHOD:PUBLISH
BEGIN:VEVENT
UID:event-10800@www.amse-aixmarseille.fr
DTSTAMP:20260422T021225Z
CREATED:20260422T021225Z
LAST-MODIFIED:20260422T021225Z
STATUS:CONFIRMED
SEQUENCE:0
SUMMARY:amse seminar - Ségal Le Guern Herry
DTSTART:20240208T103000Z
DTEND:20240208T114500Z
DESCRIPTION:\\n\\nContact: Agnes Tomini: agnes.tomini[at]univ-amu.frFederi
 co Trionfetti: federico.trionfetti[at]univ-amu.fr\n\nPlus d'informations: 
 https://www.amse-aixmarseille.fr/en/events/s%C3%A9gal-le-guern-herry-0
LOCATION:Îlot Bernard du Bois - Salle 21\, AMU - AMSE\, 5-9 boulevard Maur
 ice Bourdet\, 13001 Marseille
URL;VALUE=URI:https://www.amse-aixmarseille.fr/en/events/s%C3%A9gal-le-guern-herry-0
CONTACT:Agnes Tomini:&nbsp\;agnes.tomini[at]univ-amu.frFederico Trionfetti:
 &nbsp\;federico.trionfetti[at]univ-amu.fr
TRANSP:OPAQUE
END:VEVENT
END:VCALENDAR
