BEGIN:VCALENDAR
VERSION:2.0
PRODID:-//AMSE//Event Calendar//FR
CALSCALE:GREGORIAN
METHOD:PUBLISH
BEGIN:VEVENT
UID:event-10824@www.amse-aixmarseille.fr
DTSTAMP:20260422T002536Z
CREATED:20260422T002536Z
LAST-MODIFIED:20260422T002536Z
STATUS:CONFIRMED
SEQUENCE:0
SUMMARY:Economic theory seminar - Nicole Tabasso
DTSTART:20240216T110000Z
DTEND:20240216T120000Z
DESCRIPTION:We study the diffusion of a true and a false message when agent
 s are biased towards one of the messages and able to verify messages. A rec
 ipient of a rumor who verifies it becomes informed of the truth. Consequent
 ly\, a higher rumor prevalence increases the prevalence of the truth. We em
 ploy this result to discuss how a planner may optimally choose information 
 verification rates of the population. We find that a planner who aims to ma
 ximize the prevalence of the truth may find it optimal to allow rumors to c
 irculate\, and we discuss under which conditions this is the case.\\n\\nCon
 tact: Gaëtan Fournier: gaetan.fournier[at]univ-amu.fr\n\nPlus d'informatio
 ns: https://www.amse-aixmarseille.fr/en/events/nicole-tabasso-0
LOCATION:Îlot Bernard du Bois - Salle 16\, AMU - AMSE\, 5-9 boulevard Maur
 ice Bourdet\, 13001 Marseille
URL;VALUE=URI:https://www.amse-aixmarseille.fr/en/events/nicole-tabasso-0
CONTACT:Gaëtan Fournier: gaetan.fournier[at]univ-amu.fr
TRANSP:OPAQUE
END:VEVENT
END:VCALENDAR
