BEGIN:VCALENDAR
VERSION:2.0
PRODID:-//AMSE//Event Calendar//FR
CALSCALE:GREGORIAN
METHOD:PUBLISH
BEGIN:VEVENT
UID:event-10885@www.amse-aixmarseille.fr
DTSTAMP:20260421T230551Z
CREATED:20260421T230551Z
LAST-MODIFIED:20260421T230551Z
STATUS:CONFIRMED
SEQUENCE:0
SUMMARY:soutenances de thèse - Claire Alestra
DTSTART:20240308T130000Z
DTEND:20240308T130000Z
DESCRIPTION:Plus d'informations: https://www.amse-aixmarseille.fr/en/events
 /claire-alestra-4
LOCATION:Îlot Bernard du Bois - Amphithéâtre\, AMU - AMSE\, 5-9 boulevar
 d Maurice Bourdet\, 13001 Marseille
URL;VALUE=URI:https://www.amse-aixmarseille.fr/en/events/claire-alestra-4
TRANSP:OPAQUE
END:VEVENT
END:VCALENDAR
