BEGIN:VCALENDAR
VERSION:2.0
PRODID:-//AMSE//Event Calendar//FR
CALSCALE:GREGORIAN
METHOD:PUBLISH
BEGIN:VEVENT
UID:event-11060@www.amse-aixmarseille.fr
DTSTAMP:20260421T185641Z
CREATED:20260421T185641Z
LAST-MODIFIED:20260421T185641Z
STATUS:CONFIRMED
SEQUENCE:0
SUMMARY:conférences/workshops - Personal data in research projects: regula
 tion\, protection\, management
DTSTART:20240404T130000Z
DTEND:20240404T150000Z
DESCRIPTION:\\n\\nContact: Laurence Bouvard: laurence.bouvard[at]univ-amu.f
 r\n\nPlus d'informations: https://www.amse-aixmarseille.fr/en/events/person
 al-data-research-projects-regulation-protection-management
LOCATION:Îlot Bernard du Bois - Salle 2-32\, AMU - AMSE\, 5-9 boulevard Ma
 urice Bourdet\, 13001 Marseille
URL;VALUE=URI:https://www.amse-aixmarseille.fr/en/events/personal-data-research-projects-regulation-protection-management
CONTACT:Laurence Bouvard: laurence.bouvard[at]univ-amu.fr
TRANSP:OPAQUE
END:VEVENT
END:VCALENDAR
