BEGIN:VCALENDAR
VERSION:2.0
PRODID:-//AMSE//Event Calendar//FR
CALSCALE:GREGORIAN
METHOD:PUBLISH
BEGIN:VEVENT
UID:event-11132@www.amse-aixmarseille.fr
DTSTAMP:20260421T135036Z
CREATED:20260421T135036Z
LAST-MODIFIED:20260421T135036Z
STATUS:CONFIRMED
SEQUENCE:0
SUMMARY:soutenances de thèse - Matteo Sestito
DTSTART:20240625T080000Z
DTEND:20240625T080000Z
DESCRIPTION:Plus d'informations: https://www.amse-aixmarseille.fr/en/events
 /matteo-sestito-4
LOCATION:Îlot Bernard du Bois - Amphithéâtre\, AMU - AMSE\, 5-9 boulevar
 d Maurice Bourdet\, 13001 Marseille
URL;VALUE=URI:https://www.amse-aixmarseille.fr/en/events/matteo-sestito-4
TRANSP:OPAQUE
END:VEVENT
END:VCALENDAR
