BEGIN:VCALENDAR
VERSION:2.0
PRODID:-//AMSE//Event Calendar//FR
CALSCALE:GREGORIAN
METHOD:PUBLISH
BEGIN:VEVENT
UID:event-11350@www.amse-aixmarseille.fr
DTSTAMP:20260422T002535Z
CREATED:20260422T002535Z
LAST-MODIFIED:20260422T002535Z
STATUS:CONFIRMED
SEQUENCE:0
SUMMARY:phd seminar - Aliénor Bisantis*\, Lucie Giorgi**
DTSTART:20241203T100000Z
DTEND:20241203T113000Z
DESCRIPTION:*This study investigates the pathways to Maître de Conférence
 s (MCF) positions in French academia\, focusing on potential gender dispari
 ties in the transition from PhD graduation to permanent academic employment
 . It leverages a novel dataset that combines information on theses defended
  in French universities\, bibliometric data from Scopus\, and records from 
 the Conseil National des Universités (CNU). I plan to examine whether the 
 period between thesis completion and obtaining an MCF position affects men 
 and women differently across all research disciplines and to what extent th
 is delay penalizes women more than men in their academic career trajectorie
 s.**This study examines how exposure to the opposite gender during schoolin
 g affects long-term outcomes by exploiting the gradual switch from single-s
 ex to co-educational instruction in French elementary schools during the 19
 60s. While mixed-gender education was historically limited to small rural v
 illages\, a nationwide shift began in 1958\, with implementation varying ac
 ross schools before becoming compulsory in 1975. This provides a natural ex
 periment to study how early-life exposure to the opposite gender can shape 
 key life outcomes. Using data on the number of single-sex and co-educationa
 l schools at the departmental level by year\, I plan to estimate the effect
  of exposure to co-education on education\, occupation and family compositi
 on. \\n\\nContact: Philippine Escudié: philippine.escudie[at]univ-amu.fr
 Lucie Giorgi: lucie.giorgi[at]univ-amu.frKla Kouadio: kla.kouadio[at]univ-a
 mu.frLola Soubeyrand: lola.soubeyrand[at]univ-amu.fr\n\nPlus d'information
 s: https://www.amse-aixmarseille.fr/en/events/ali%C3%A9nor-bisantis-lucie-g
 iorgi-0
LOCATION:Îlot Bernard du Bois - Amphithéâtre\, AMU - AMSE\, 5-9 boulevar
 d Maurice Bourdet\, 13001 Marseille
URL;VALUE=URI:https://www.amse-aixmarseille.fr/en/events/ali%C3%A9nor-bisantis-lucie-giorgi-0
CONTACT:Philippine Escudié:&nbsp\;philippine.escudie[at]univ-amu.frLucie G
 iorgi: lucie.giorgi[at]univ-amu.frKla Kouadio: kla.kouadio[at]univ-amu.frLo
 la Soubeyrand:&nbsp\;lola.soubeyrand[at]univ-amu.fr
TRANSP:OPAQUE
END:VEVENT
END:VCALENDAR
