BEGIN:VCALENDAR
VERSION:2.0
PRODID:-//AMSE//Event Calendar//FR
CALSCALE:GREGORIAN
METHOD:PUBLISH
BEGIN:VEVENT
UID:event-11362@www.amse-aixmarseille.fr
DTSTAMP:20260422T181822Z
CREATED:20260422T181822Z
LAST-MODIFIED:20260422T181822Z
STATUS:CONFIRMED
SEQUENCE:0
SUMMARY:phd seminar - Giulia Tozzi
DTSTART:20241022T094500Z
DTEND:20241022T103000Z
DESCRIPTION:Understanding the drivers of global legal and illegal deforesta
 tion is of significant policy concern\, particularly for tropical rainfores
 ts like the Amazon. This paper explores the local environmental consequence
 s of illegal drug production\, specifically focusing on the impact of coca 
 prices and cultivation on tree cover density in Peru. Utilizing remote sens
 ing satellite imagery and cell-level variation in the economic value of pot
 ential coca cultivation\, I demonstrate that variations in return to cultiv
 ate coca drive local deforestation in the Peruvian Amazon forest\, surpassi
 ng the effects of agricultural and mineral commodity prices. Moreover\, a t
 echnological revolution involving the adoption of agrochemicals has expande
 d the coca cultivation frontier to remote Amazon areas\, making it a into a
  diffuse source of environmental degradation\, i.e. a non-point source acti
 vity. It allowed the cultivation of coca in the unsuitable yet strategic no
 rthern districts of Loreto – forested region bordering Colombia. The tech
 nological advancements\, increasing productivity of forest-derived land use
 s\, presented Narcos with fresh economic opportunities for environmental\, 
 and more specifically\, forestry crimes.\\n\\nContact: Philippine Escudié:
  philippine.escudie[at]univ-amu.frLucie Giorgi: lucie.giorgi[at]univ-amu.f
 rKla Kouadio: kla.kouadio[at]univ-amu.frLola Soubeyrand: lola.soubeyrand[a
 t]univ-amu.fr\n\nPlus d'informations: https://www.amse-aixmarseille.fr/en/e
 vents/giulia-tozzi-0
LOCATION:Îlot Bernard du Bois - Salle 11\, AMU - AMSE\, 5-9 boulevard Maur
 ice Bourdet\, 13001 Marseille
URL;VALUE=URI:https://www.amse-aixmarseille.fr/en/events/giulia-tozzi-0
CONTACT:Philippine Escudié:&nbsp\;philippine.escudie[at]univ-amu.frLucie G
 iorgi: lucie.giorgi[at]univ-amu.frKla Kouadio: kla.kouadio[at]univ-amu.frLo
 la Soubeyrand:&nbsp\;lola.soubeyrand[at]univ-amu.fr
TRANSP:OPAQUE
END:VEVENT
END:VCALENDAR
