BEGIN:VCALENDAR
VERSION:2.0
PRODID:-//AMSE//Event Calendar//FR
CALSCALE:GREGORIAN
METHOD:PUBLISH
BEGIN:VEVENT
UID:event-11381@www.amse-aixmarseille.fr
DTSTAMP:20260421T194806Z
CREATED:20260421T194806Z
LAST-MODIFIED:20260421T194806Z
STATUS:CONFIRMED
SEQUENCE:0
SUMMARY:amse seminar - Seth Benzell
DTSTART:20241125T103000Z
DTEND:20241125T114500Z
DESCRIPTION:We construct a database linking European royal kinship networks
 \, monarchies\, and wars to study the effect of family ties on conflict. To
  establish causality\, we exploit decreases in connection caused by apoliti
 cal deaths of rulers' mutual relatives. These deaths are associated with su
 bstantial increases in the frequency and duration of war. We provide eviden
 ce that these deaths affect conflict only through changing the kinship netw
 ork. Over our period of interest\, the percentage of European monarchs with
  kinship ties increased threefold. Together\, these findings help explain t
 he well-documented decrease in European war frequency.\\n\\nContact: Nicola
 s Clootens: nicolas.clootens[at]univ-amu.frRomain Ferrali: romain.ferrali[a
 t]univ-amu.fr\n\nPlus d'informations: https://www.amse-aixmarseille.fr/en/e
 vents/seth-benzell-0
LOCATION:Îlot Bernard du Bois - Amphithéâtre\, AMU - AMSE\, 5-9 boulevar
 d Maurice Bourdet\, 13001 Marseille
URL;VALUE=URI:https://www.amse-aixmarseille.fr/en/events/seth-benzell-0
CONTACT:Nicolas Clootens: nicolas.clootens[at]univ-amu.frRomain Ferrali: ro
 main.ferrali[at]univ-amu.fr
TRANSP:OPAQUE
END:VEVENT
END:VCALENDAR
