BEGIN:VCALENDAR
VERSION:2.0
PRODID:-//AMSE//Event Calendar//FR
CALSCALE:GREGORIAN
METHOD:PUBLISH
BEGIN:VEVENT
UID:event-11403@www.amse-aixmarseille.fr
DTSTAMP:20260421T214115Z
CREATED:20260421T214115Z
LAST-MODIFIED:20260421T214115Z
STATUS:CONFIRMED
SEQUENCE:0
SUMMARY:big data and econometrics seminar - Pedro Salas-Rojo
DTSTART:20241203T130000Z
DTEND:20241203T143000Z
DESCRIPTION:Scholars have sought to quantify the extent of inequality which
  is inherited from past generations in multiple ways\, including a large bo
 dy of work on intergenerational mobility and inequality of opportunity. Thi
 s paper makes two contributions to that broad literature. First\, we show t
 hat many of the most frequently used approaches to measuring mobility or in
 equality of opportunity fit within a general framework which involves\, as 
 a first step\, a calculation of the extent to which inherited circumstances
  can predict current incomes. Second\, we suggest a new method â€“ within t
 hat broad framework â€“ which is sensitive to differences across the entire
  distributions of groups with different inherited characteristics\, rather 
 than just in their means. This feature makes it particularly well-suited to
  measuring inequality of opportunity\, as well as to any inequality decompo
 sition approach that requires going beyond means in assessing between-group
  differences. We apply this approach to South Africa\, arguably the worldâ€
 ™s most unequal country\, and find that almost three-quarters of its curren
 t inequality is inherited from predetermined circumstances\, with race play
 ing the largest role but parental background also making an important contr
 ibution.\\n\\nContact: Sullivan HuÃ©: sullivan.hue[at]univ-amu.frMichel Lub
 rano: michel.lubrano[at]univ-amu.fr\n\nPlus d'informations: https://www.ams
 e-aixmarseille.fr/en/events/pedro-salas-rojo-0
LOCATION:ÃŽlot Bernard du Bois - Salle 21\, AMU - AMSE\, 5-9 boulevard Maur
 ice Bourdet\, 13001 Marseille
URL;VALUE=URI:https://www.amse-aixmarseille.fr/en/events/pedro-salas-rojo-0
CONTACT:Sullivan HuÃ©: sullivan.hue[at]univ-amu.frMichel Lubrano: michel.lu
 brano[at]univ-amu.fr
TRANSP:OPAQUE
END:VEVENT
END:VCALENDAR
