BEGIN:VCALENDAR
VERSION:2.0
PRODID:-//AMSE//Event Calendar//FR
CALSCALE:GREGORIAN
METHOD:PUBLISH
BEGIN:VEVENT
UID:event-11414@www.amse-aixmarseille.fr
DTSTAMP:20260422T181822Z
CREATED:20260422T181822Z
LAST-MODIFIED:20260422T181822Z
STATUS:CONFIRMED
SEQUENCE:0
SUMMARY:economic philosophy seminar - Gabriel Nardacchione
DTSTART:20241014T140000Z
DTEND:20241014T160000Z
DESCRIPTION:Depuis la post-pandÃ©mie\, de nombreuses formes de connaissance
  traditionnellement dominantes\, en particulier celle de la science\, ont Ã
 ©tÃ© mises en crise. PlutÃ´t que dans une perspective idÃ©ologique ou polit
 ique (liÃ©e Ã  des mouvements rÃ©actionnaires ou d'extrÃªme droite)\, il no
 us intÃ©resse de penser cette transformation sociale\, au moins en partie\,
  comme le fruit d'un choc des savoirs qui confronte le paradigme scientifiq
 ue dominant Ã  des Â« mondes alternatifs Â» impliquant une multitude de sav
 oirs et d'expÃ©riences singuliÃ¨res. Analyser en dÃ©tail l'influence de ces
  mouvements permet de comprendre de maniÃ¨re plus incarnÃ©e la crise de la 
 rationalitÃ© scientifique contemporaine. Pour ce faire\, nous commencerons 
 par une recherche ethnographique sur les producteurs agroÃ©cologiques en Ar
 gentine\, et sur la maniÃ¨re dont ils doivent dÃ©ployer un ensemble d'infor
 mations et gÃ©nÃ©rer un rÃ©seau de confiance pour rendre leurs projets de p
 roduction agroÃ©cologique commercialement durables.\\n\\nContact: Feriel Ka
 ndil:Â feriel.kandil[at]univ-amu.frMiriam Teschl:Â miriam.teschl[at]ehess.f
 r\n\nPlus d'informations: https://www.amse-aixmarseille.fr/en/events/gabrie
 l-nardacchione-0
LOCATION:ÃŽlot Bernard du Bois - Salle 17\, AMU - AMSE\, 5-9 boulevard Maur
 ice Bourdet\, 13001 Marseille
URL;VALUE=URI:https://www.amse-aixmarseille.fr/en/events/gabriel-nardacchione-0
CONTACT:Feriel Kandil:&nbsp\;feriel.kandil[at]univ-amu.frMiriam Teschl:&nbs
 p\;miriam.teschl[at]ehess.fr
TRANSP:OPAQUE
END:VEVENT
END:VCALENDAR
