BEGIN:VCALENDAR
VERSION:2.0
PRODID:-//AMSE//Event Calendar//FR
CALSCALE:GREGORIAN
METHOD:PUBLISH
BEGIN:VEVENT
UID:event-11416@www.amse-aixmarseille.fr
DTSTAMP:20260421T194714Z
CREATED:20260421T194714Z
LAST-MODIFIED:20260421T194714Z
STATUS:CONFIRMED
SEQUENCE:0
SUMMARY:soutenances de thèse - Jade Ponsard
DTSTART:20241122T133000Z
DTEND:20241122T133000Z
DESCRIPTION:Plus d'informations: https://www.amse-aixmarseille.fr/en/events
 /jade-ponsard-0
LOCATION:Îlot Bernard du Bois - Amphithéâtre\, AMU - AMSE\, 5-9 boulevar
 d Maurice Bourdet\, 13001 Marseille
URL;VALUE=URI:https://www.amse-aixmarseille.fr/en/events/jade-ponsard-0
TRANSP:OPAQUE
END:VEVENT
END:VCALENDAR
