BEGIN:VCALENDAR
VERSION:2.0
PRODID:-//AMSE//Event Calendar//FR
CALSCALE:GREGORIAN
METHOD:PUBLISH
BEGIN:VEVENT
UID:event-11445@www.amse-aixmarseille.fr
DTSTAMP:20260421T184158Z
CREATED:20260421T184158Z
LAST-MODIFIED:20260421T184158Z
STATUS:CONFIRMED
SEQUENCE:0
SUMMARY:enseignement - 2024 Graduation Ceremony
DTSTART:20241011T160000Z
DTEND:20241011T160000Z
DESCRIPTION:\\n\\nContact: infoecole[at]amse-aixmarseille.fr\n\nPlus d'info
 rmations: https://www.amse-aixmarseille.fr/en/events/2024-graduation-ceremo
 ny
URL;VALUE=URI:https://www.amse-aixmarseille.fr/en/events/2024-graduation-ceremony
CONTACT:infoecole[at]amse-aixmarseille.fr
TRANSP:OPAQUE
END:VEVENT
END:VCALENDAR
