BEGIN:VCALENDAR
VERSION:2.0
PRODID:-//AMSE//Event Calendar//FR
CALSCALE:GREGORIAN
METHOD:PUBLISH
BEGIN:VEVENT
UID:event-11480@www.amse-aixmarseille.fr
DTSTAMP:20260422T002514Z
CREATED:20260422T002514Z
LAST-MODIFIED:20260422T002514Z
STATUS:CONFIRMED
SEQUENCE:0
SUMMARY:Macro and labor market seminar - Eugenia Gonzalez-Aguado
DTSTART:20250131T113000Z
DTEND:20250131T123000Z
DESCRIPTION:Many economies feature the co-existence of permanent contracts 
 with high employment protection\, and temporary\, fixed-term contracts. We
  study how such duality affects the career mobility of workers in a labor m
 arket that is segmented along the occupation margin. Specifically\, we dev
 elop a quantitative theory that sheds light on how duality affects aggregat
 e productivity and unemployment through the channel of career mobility. The
  mechanism works through the equilibrium distribution of occupational tenur
 e\, which is endogenous to the labor market institutions\, and which affect
 s aggregate human capital. We explore various policy counterfactuals that a
 ddress duality in a version of the model calibrated to Spanish labor market
  outcomes. We find that reforms reducing duality can increase aggregate pro
 ductivity through an increase of occupational mobility of unemployed worker
 s.\\n\\nContact: Marco Fongoni: marco.fongoni[at]univ-amu.frAlexandros Louk
 as: alexandros.loukas[at]univ-amu.fr\n\nPlus d'informations: https://www.am
 se-aixmarseille.fr/en/events/eugenia-gonzalez-aguado-0
LOCATION:MEGA - Salle Carine Nourry\, 424\, Chemin du Viaduc\, 13080 Aix-en
 -Provence
URL;VALUE=URI:https://www.amse-aixmarseille.fr/en/events/eugenia-gonzalez-aguado-0
CONTACT:Marco Fongoni: marco.fongoni[at]univ-amu.frAlexandros Loukas: alexa
 ndros.loukas[at]univ-amu.fr
TRANSP:OPAQUE
END:VEVENT
END:VCALENDAR
