BEGIN:VCALENDAR
VERSION:2.0
PRODID:-//AMSE//Event Calendar//FR
CALSCALE:GREGORIAN
METHOD:PUBLISH
BEGIN:VEVENT
UID:event-11484@www.amse-aixmarseille.fr
DTSTAMP:20260421T171818Z
CREATED:20260421T171818Z
LAST-MODIFIED:20260421T171818Z
STATUS:CONFIRMED
SEQUENCE:0
SUMMARY:Macro and labor market seminar - Vivien J. Lewis
DTSTART:20250425T103000Z
DTEND:20250425T113000Z
DESCRIPTION:We use data from the Work Orientations Survey to analyse the cy
 clicality of effort at work. Our aim is to test two competing theories of t
 he labor market\, the labor hoarding view and the Shapiro and Stiglitz (19
 84) “shirking model”. Self-reported work effort is found to be robustly
  procyclical\, consistent with the former model. We provide evidence for t
 he presence of labor hoarding by showing that the cyclicality of effort is
  positively related to the strictness of employment protection legislation.
  Finally\, we document heterogeneity in effort cyclicality across occupati
 ons and individuals.\\n\\nContact: Marco Fongoni: marco.fongoni[at]univ-amu
 .frAlexandros Loukas: alexandros.loukas[at]univ-amu.fr\n\nPlus d'informatio
 ns: https://www.amse-aixmarseille.fr/en/events/vivien-j-lewis-0
LOCATION:Îlot Bernard du Bois - Salle 17\, AMU - AMSE\, 5-9 boulevard Maur
 ice Bourdet\, 13001 Marseille
URL;VALUE=URI:https://www.amse-aixmarseille.fr/en/events/vivien-j-lewis-0
CONTACT:Marco Fongoni: marco.fongoni[at]univ-amu.frAlexandros Loukas: alexa
 ndros.loukas[at]univ-amu.fr
TRANSP:OPAQUE
END:VEVENT
END:VCALENDAR
