BEGIN:VCALENDAR
VERSION:2.0
PRODID:-//AMSE//Event Calendar//FR
CALSCALE:GREGORIAN
METHOD:PUBLISH
BEGIN:VEVENT
UID:event-11508@www.amse-aixmarseille.fr
DTSTAMP:20260421T195651Z
CREATED:20260421T195651Z
LAST-MODIFIED:20260421T195651Z
STATUS:CONFIRMED
SEQUENCE:0
SUMMARY:enseignement - 2024 Career Day
DTSTART:20241122T080000Z
DTEND:20241122T160000Z
DESCRIPTION:\\n\\nContact: infoecole[at]amse-aixmarseille.fr\n\nPlus d'info
 rmations: https://www.amse-aixmarseille.fr/en/events/2024-career-day
URL;VALUE=URI:https://www.amse-aixmarseille.fr/en/events/2024-career-day
CONTACT:infoecole[at]amse-aixmarseille.fr
TRANSP:OPAQUE
END:VEVENT
END:VCALENDAR
