BEGIN:VCALENDAR
VERSION:2.0
PRODID:-//AMSE//Event Calendar//FR
CALSCALE:GREGORIAN
METHOD:PUBLISH
BEGIN:VEVENT
UID:event-11522@www.amse-aixmarseille.fr
DTSTAMP:20260421T182943Z
CREATED:20260421T182943Z
LAST-MODIFIED:20260421T182943Z
STATUS:CONFIRMED
SEQUENCE:0
SUMMARY:enseignement - Afterwork - Onepoint
DTSTART:20241112T171500Z
DTEND:20241112T181500Z
DESCRIPTION:\\n\\nContact: communication[at]amse-aixmarseille.fr\n\nPlus d'
 informations: https://www.amse-aixmarseille.fr/en/events/afterwork-onepoint
 -0
URL;VALUE=URI:https://www.amse-aixmarseille.fr/en/events/afterwork-onepoint-0
CONTACT:communication[at]amse-aixmarseille.fr
TRANSP:OPAQUE
END:VEVENT
END:VCALENDAR
