BEGIN:VCALENDAR
VERSION:2.0
PRODID:-//AMSE//Event Calendar//FR
CALSCALE:GREGORIAN
METHOD:PUBLISH
BEGIN:VEVENT
UID:event-11538@www.amse-aixmarseille.fr
DTSTAMP:20260421T230700Z
CREATED:20260421T230700Z
LAST-MODIFIED:20260421T230700Z
STATUS:CONFIRMED
SEQUENCE:0
SUMMARY:French-Japanese webinar - Jérôme Creel
DTSTART:20241213T080000Z
DTEND:20241213T090000Z
DESCRIPTION:\\n\\nContact: Gilles Dufrénot: gilles.dufrenot[at]sciencespo-
 aix.frKiyotaka Sato: sato[at]ynu.ac.jp\n\nPlus d'informations: https://www
 .amse-aixmarseille.fr/en/events/j%C3%A9r%C3%B4me-creel-0
URL;VALUE=URI:https://www.amse-aixmarseille.fr/en/events/j%C3%A9r%C3%B4me-creel-0
CONTACT:Gilles Dufrénot: gilles.dufrenot[at]sciencespo-aix.frKiyotaka Sato
 :&nbsp\;sato[at]ynu.ac.jp
TRANSP:OPAQUE
END:VEVENT
END:VCALENDAR
