BEGIN:VCALENDAR
VERSION:2.0
PRODID:-//AMSE//Event Calendar//FR
CALSCALE:GREGORIAN
METHOD:PUBLISH
BEGIN:VEVENT
UID:event-11573@www.amse-aixmarseille.fr
DTSTAMP:20260421T122133Z
CREATED:20260421T122133Z
LAST-MODIFIED:20260421T122133Z
STATUS:CONFIRMED
SEQUENCE:0
SUMMARY:Economic theory seminar - Loic Berger
DTSTART:20250523T100000Z
DTEND:20250523T110000Z
DESCRIPTION:We explore the behavioral drivers of individual decision-making
  under uncer- tainty. We propose a framework for characterizing uncertain s
 ituations based on both their degrees of ambiguity and complexity. We then 
 derive testable predic- tions\, which we confront to three di↵erent exper
 imental datasets to demonstrate that both attitudes towards ambiguity and c
 omplexity significantly shape individ- uals’ uncertainty preferences.\\n\
 \nContact: Jiakun Zheng: jiakun.zheng[at]univ-amu.fr\n\nPlus d'information
 s: https://www.amse-aixmarseille.fr/en/events/loic-berger-0
LOCATION:Îlot Bernard du Bois - Salle 15\, AMU - AMSE\, 5-9 boulevard Maur
 ice Bourdet\, 13001 Marseille
URL;VALUE=URI:https://www.amse-aixmarseille.fr/en/events/loic-berger-0
CONTACT:Jiakun Zheng:&nbsp\;jiakun.zheng[at]univ-amu.fr
TRANSP:OPAQUE
END:VEVENT
END:VCALENDAR
