BEGIN:VCALENDAR
VERSION:2.0
PRODID:-//AMSE//Event Calendar//FR
CALSCALE:GREGORIAN
METHOD:PUBLISH
BEGIN:VEVENT
UID:event-11593@www.amse-aixmarseille.fr
DTSTAMP:20260422T013614Z
CREATED:20260422T013614Z
LAST-MODIFIED:20260422T013614Z
STATUS:CONFIRMED
SEQUENCE:0
SUMMARY:Practice job talks - Karine Moukaddem
DTSTART:20241126T133000Z
DTEND:20241126T144500Z
DESCRIPTION:\\n\\nContact: Timothée Demont: timothee.demont[at]univ-amu.fr
 Paolo Melindi-Ghidi: paolo.melindi-ghidi[at]univ-amu.fr\n\nPlus d'informat
 ions: https://www.amse-aixmarseille.fr/en/events/karine-moukaddem-0
LOCATION:Îlot Bernard du Bois - Salle 24\, AMU - AMSE\, 5-9 boulevard Maur
 ice Bourdet\, 13001 Marseille
URL;VALUE=URI:https://www.amse-aixmarseille.fr/en/events/karine-moukaddem-0
CONTACT:Timothée Demont: timothee.demont[at]univ-amu.frPaolo Melindi-Ghidi
 :&nbsp\;paolo.melindi-ghidi[at]univ-amu.fr
TRANSP:OPAQUE
END:VEVENT
END:VCALENDAR
