BEGIN:VCALENDAR
VERSION:2.0
PRODID:-//AMSE//Event Calendar//FR
CALSCALE:GREGORIAN
METHOD:PUBLISH
BEGIN:VEVENT
UID:event-11597@www.amse-aixmarseille.fr
DTSTAMP:20260422T033614Z
CREATED:20260422T033614Z
LAST-MODIFIED:20260422T033614Z
STATUS:CONFIRMED
SEQUENCE:0
SUMMARY:Practice job talks - Kohmei Makihara
DTSTART:20241210T133000Z
DTEND:20241210T144500Z
DESCRIPTION:\\n\\nContact: Timothée Demont: timothee.demont[at]univ-amu.fr
 Paolo Melindi-Ghidi: paolo.melindi-ghidi[at]univ-amu.fr\n\nPlus d'informat
 ions: https://www.amse-aixmarseille.fr/en/events/kohmei-makihara-1
LOCATION:MEGA\, 424\, Chemin du Viaduc\, 13080 Aix-en-Provence
URL;VALUE=URI:https://www.amse-aixmarseille.fr/en/events/kohmei-makihara-1
CONTACT:Timothée Demont: timothee.demont[at]univ-amu.frPaolo Melindi-Ghidi
 :&nbsp\;paolo.melindi-ghidi[at]univ-amu.fr
TRANSP:OPAQUE
END:VEVENT
END:VCALENDAR
