BEGIN:VCALENDAR
VERSION:2.0
PRODID:-//AMSE//Event Calendar//FR
CALSCALE:GREGORIAN
METHOD:PUBLISH
BEGIN:VEVENT
UID:event-11603@www.amse-aixmarseille.fr
DTSTAMP:20260421T165405Z
CREATED:20260421T165405Z
LAST-MODIFIED:20260421T165405Z
STATUS:CONFIRMED
SEQUENCE:0
SUMMARY:finance seminar - Yves Rannou
DTSTART:20241112T093000Z
DTEND:20241112T110000Z
DESCRIPTION:This paper provides the first experiment on a multi-grade label
 ling scheme within the European Socially Responsible Investment (SRI) marke
 t. Specifically\, we develop an innovative fuzzy c-means clustering approac
 h to group SRI funds according to their green performance. Our central resu
 lt shows that a four-grade labelling scheme adequately captures the heterog
 eneity in funds’ green performance. We also find that adopting this schem
 e allows investors to perceive the green performance of SRI funds as a reli
 able signal of their future financial performance. Moreover\, we report an 
 indirect flow effect due to environmental sustainability because the positi
 ve association of SRI funds’ green performance with flows is mainly drive
 n by expenses\, financial performance\, and risk considerations. Provided t
 hat this scheme provides two consistent and convergent signals on SRI funds
 ’ green and financial performance\, it increases the relevance of SRI lab
 els for investors and fund managers in Europe\, where label proliferation i
 s conducive to divergent sustainability signals.\\n\\nContact: Eric Girardi
 n: eric.girardin[at]univ-amu.frGaël Leboeuf: gael.leboeuf[at]univ-amu.frCh
 ristelle Lecourt: christelle.lecourt[at]univ-amu.fr\n\nPlus d'informations:
  https://www.amse-aixmarseille.fr/en/events/yves-rannou-0
LOCATION:MEGA
URL;VALUE=URI:https://www.amse-aixmarseille.fr/en/events/yves-rannou-0
CONTACT:Eric Girardin: eric.girardin[at]univ-amu.frGaël Leboeuf: gael.lebo
 euf[at]univ-amu.frChristelle Lecourt: christelle.lecourt[at]univ-amu.fr
TRANSP:OPAQUE
END:VEVENT
END:VCALENDAR
