BEGIN:VCALENDAR
VERSION:2.0
PRODID:-//AMSE//Event Calendar//FR
CALSCALE:GREGORIAN
METHOD:PUBLISH
BEGIN:VEVENT
UID:event-11750@www.amse-aixmarseille.fr
DTSTAMP:20260421T230710Z
CREATED:20260421T230710Z
LAST-MODIFIED:20260421T230710Z
STATUS:CONFIRMED
SEQUENCE:0
SUMMARY:big data and econometrics seminar - Samuel Stocksieker
DTSTART:20250225T130000Z
DTEND:20250225T143000Z
DESCRIPTION:Les données jouent un rôle essentiel dans l’apprentissage a
 utomatique\, la modélisation statistique et\, plus généralement\, l’in
 telligence artificielle. Elles fournissent en effet la matière première n
 écessaire à la construction des modèles\, qu’il s’agisse de méthode
 s d’apprentissage supervisé ou non supervisé\, ou de techniques statist
 iques plus traditionnelles ou même de réseaux neuronaux profonds. Plus le
 s données sont riches\, variées et représentatives de la réalité\, plu
 s les modèles peuvent être précis\, généralisables et utiles dans dive
 rs contextes. Par conséquent\, la qualité des résultats est intimement l
 iée la qualité des données utilisées.L’apprentissage à partir de val
 eurs rares\, extrêmes ou non\, et plus généralement à partir de donnée
 s déséquilibrées reste encore un défi majeur et assez inexploré pour l
 es tâches de régression. De plus\, les valeurs rares représentent souven
 t un événement important que les praticiens cherchent à comprendre ou pr
 édire.Comment identifier ce phénomène ? Quels impacts cela peut-il avoir
  sur la modélisation ? Quelles solutions permettent d’appréhender cette
  problématique ? Voici les questions auxquelles essaiera de répondre cett
 e présentation sur le sujet.\\n\\nContact: Sullivan Hué: sullivan.hue[at]
 univ-amu.frMichel Lubrano: michel.lubrano[at]univ-amu.fr\n\nPlus d'informat
 ions: https://www.amse-aixmarseille.fr/en/events/samuel-stocksieker-0
LOCATION:Îlot Bernard du Bois - Salle 21\, AMU - AMSE\, 5-9 boulevard Maur
 ice Bourdet\, 13001 Marseille
URL;VALUE=URI:https://www.amse-aixmarseille.fr/en/events/samuel-stocksieker-0
CONTACT:Sullivan Hué: sullivan.hue[at]univ-amu.frMichel Lubrano: michel.lu
 brano[at]univ-amu.fr
TRANSP:OPAQUE
END:VEVENT
END:VCALENDAR
