BEGIN:VCALENDAR
VERSION:2.0
PRODID:-//AMSE//Event Calendar//FR
CALSCALE:GREGORIAN
METHOD:PUBLISH
BEGIN:VEVENT
UID:event-12139@www.amse-aixmarseille.fr
DTSTAMP:20260421T135103Z
CREATED:20260421T135103Z
LAST-MODIFIED:20260421T135103Z
STATUS:CONFIRMED
SEQUENCE:0
SUMMARY:conférences/workshops - International Research Network IRN E3E - O
 pen workshop for the entire academic community 
DTSTART:20250605T123000Z
DTEND:20250605T153000Z
DESCRIPTION:\\n\\nContact: Raouf Boucekkine: raouf.boucekkine[at]univ-amu.f
 r\n\nPlus d'informations: https://www.amse-aixmarseille.fr/en/events/intern
 ational-research-network-irn-e3e-open-workshop-entire-academic-community
LOCATION:Îlot Bernard du Bois - Salle 13\, AMU - AMSE\, 5-9 boulevard Maur
 ice Bourdet\, 13001 Marseille
URL;VALUE=URI:https://www.amse-aixmarseille.fr/en/events/international-research-network-irn-e3e-open-workshop-entire-academic-community
CONTACT:Raouf Boucekkine: raouf.boucekkine[at]univ-amu.fr
TRANSP:OPAQUE
END:VEVENT
END:VCALENDAR
