BEGIN:VCALENDAR
VERSION:2.0
PRODID:-//AMSE//Event Calendar//FR
CALSCALE:GREGORIAN
METHOD:PUBLISH
BEGIN:VEVENT
UID:event-12148@www.amse-aixmarseille.fr
DTSTAMP:20260421T110533Z
CREATED:20260421T110533Z
LAST-MODIFIED:20260421T110533Z
STATUS:CONFIRMED
SEQUENCE:0
SUMMARY:soutenances de thèse - Guillaume Bataille
DTSTART:20250624T123000Z
DTEND:20250624T123000Z
DESCRIPTION:Plus d'informations: https://www.amse-aixmarseille.fr/en/events
 /guillaume-bataille-4
LOCATION:Îlot Bernard du Bois - Amphithéâtre\, AMU - AMSE\, 5-9 boulevar
 d Maurice Bourdet\, 13001 Marseille
URL;VALUE=URI:https://www.amse-aixmarseille.fr/en/events/guillaume-bataille-4
TRANSP:OPAQUE
END:VEVENT
END:VCALENDAR
