BEGIN:VCALENDAR
VERSION:2.0
PRODID:-//AMSE//Event Calendar//FR
CALSCALE:GREGORIAN
METHOD:PUBLISH
BEGIN:VEVENT
UID:event-12150@www.amse-aixmarseille.fr
DTSTAMP:20260421T110533Z
CREATED:20260421T110533Z
LAST-MODIFIED:20260421T110533Z
STATUS:CONFIRMED
SEQUENCE:0
SUMMARY:soutenances de thèse - Kohmei Makihara
DTSTART:20250624T133000Z
DTEND:20250624T133000Z
DESCRIPTION:Plus d'informations: https://www.amse-aixmarseille.fr/en/events
 /kohmei-makihara-3
LOCATION:MEGA
URL;VALUE=URI:https://www.amse-aixmarseille.fr/en/events/kohmei-makihara-3
TRANSP:OPAQUE
END:VEVENT
END:VCALENDAR
