BEGIN:VCALENDAR
VERSION:2.0
PRODID:-//AMSE//Event Calendar//FR
CALSCALE:GREGORIAN
METHOD:PUBLISH
BEGIN:VEVENT
UID:event-12205@www.amse-aixmarseille.fr
DTSTAMP:20260422T120206Z
CREATED:20260422T120206Z
LAST-MODIFIED:20260422T120206Z
STATUS:CONFIRMED
SEQUENCE:0
SUMMARY:finance seminar - Elisabeth Paulet
DTSTART:20250617T083000Z
DTEND:20250617T100000Z
DESCRIPTION:This study uses a unique panel of 120 industrial companies list
 ed on the Tehran Stock Exchange (TSE) from 2012 to 2019 to examine the rela
 tionship between corporate governance mechanisms\, specifically ownership c
 oncentration\, board independence\, and dividend payout. The empirical spec
 ification was estimated using panel data fixed effects\, instrumental varia
 ble fixed effects\, and quantile fixed effects regression techniques. Overa
 ll\, the estimation results show a positive relationship between the two co
 rporate governance indicators\, namely ownership concentration and board in
 dependence\, and the DPO of Iranian companies. However\, this relationship 
 depends on the level of DPO\, ROE\, ownership concentration and board indep
 endence. Moreover\, the results highlight some characteristics specific to 
 the Iranian context.  \\n\\nContact: Eric Girardin: eric.girardin[at]univ
 -amu.frGaël Leboeuf: gael.leboeuf[at]univ-amu.frChristelle Lecourt: christ
 elle.lecourt[at]univ-amu.fr\n\nPlus d'informations: https://www.amse-aixmar
 seille.fr/en/events/elisabeth-paulet-0
LOCATION:MEGA
URL;VALUE=URI:https://www.amse-aixmarseille.fr/en/events/elisabeth-paulet-0
CONTACT:Eric Girardin: eric.girardin[at]univ-amu.frGaël Leboeuf: gael.lebo
 euf[at]univ-amu.frChristelle Lecourt: christelle.lecourt[at]univ-amu.fr
TRANSP:OPAQUE
END:VEVENT
END:VCALENDAR
