BEGIN:VCALENDAR
VERSION:2.0
PRODID:-//AMSE//Event Calendar//FR
CALSCALE:GREGORIAN
METHOD:PUBLISH
BEGIN:VEVENT
UID:event-12293@www.amse-aixmarseille.fr
DTSTAMP:20260421T152742Z
CREATED:20260421T152742Z
LAST-MODIFIED:20260421T152742Z
STATUS:CONFIRMED
SEQUENCE:0
SUMMARY:enseignement - 2025 Pre-entry and induction day for students
DTSTART:20250901T060000Z
DTEND:20250901T150000Z
DESCRIPTION:\\n\\nContact: infoecole[at]amse-aixmarseille.fr\n\nPlus d'info
 rmations: https://www.amse-aixmarseille.fr/en/events/2025-pre-entry-and-ind
 uction-day-students
URL;VALUE=URI:https://www.amse-aixmarseille.fr/en/events/2025-pre-entry-and-induction-day-students
CONTACT:infoecole[at]amse-aixmarseille.fr
TRANSP:OPAQUE
END:VEVENT
END:VCALENDAR
